BEGIN:VCALENDAR
VERSION:2.0
PRODID:-//PantherfansOnTour//EN
BEGIN:VEVENT
UID:186b0867222131a4ce18499243a630e7@erci-fanprojekt.de
DTSTAMP:20260420T094917Z
DTSTART:20260402T160000
DTEND:20260402T220000
SUMMARY:Auswärtsfahrt: PlayOffs: VF Spiel 5 in München
DESCRIPTION:Abfahrt: 16:00 Uhr
LOCATION:Saturn Arena
END:VEVENT
END:VCALENDAR