BEGIN:VCALENDAR
VERSION:2.0
PRODID:-//PantherfansOnTour//EN
BEGIN:VEVENT
UID:6d94aa2cbca97c3b00d5127d65861b72@erci-fanprojekt.de
DTSTAMP:20260421T090206Z
DTSTART:20260329T160000
DTEND:20260329T220000
SUMMARY:Auswärtsfahrt: PlayOffs: VF Spiel 3 in München
DESCRIPTION:Abfahrt: 16:00 Uhr
LOCATION:Saturn Arena
END:VEVENT
END:VCALENDAR